BEGIN:VCALENDAR
VERSION:2.0
PRODID:-//Digambarrao Bindu College, Bhokar - ECPv6.15.11//NONSGML v1.0//EN
CALSCALE:GREGORIAN
METHOD:PUBLISH
X-WR-CALNAME:Digambarrao Bindu College, Bhokar
X-ORIGINAL-URL:https://dbcbhokar.edu.in
X-WR-CALDESC:Events for Digambarrao Bindu College, Bhokar
REFRESH-INTERVAL;VALUE=DURATION:PT1H
X-Robots-Tag:noindex
X-PUBLISHED-TTL:PT1H
BEGIN:VTIMEZONE
TZID:UTC
BEGIN:STANDARD
TZOFFSETFROM:+0000
TZOFFSETTO:+0000
TZNAME:UTC
DTSTART:20240101T000000
END:STANDARD
END:VTIMEZONE
BEGIN:VEVENT
DTSTART;TZID=UTC:20251010T110000
DTEND;TZID=UTC:20251010T143000
DTSTAMP:20260423T205912
CREATED:20251011T082600Z
LAST-MODIFIED:20251011T082945Z
UID:10121-1760094000-1760106600@dbcbhokar.edu.in
SUMMARY:गांधी विचारांची प्रासंगिकता अधोरेखित करणारे व्याख्यान व राज्यशास्त्र अभ्यास मंडळाचे उद्घाटन
DESCRIPTION:नांदेड\, १० ऑक्टोबर २०२५ — दिगंबरराव बिंदू कला\, वाणिज्य आणि विज्ञान महाविद्यालयात महात्मा गांधी अध्ययन केंद्र व राज्यशास्त्र विभागाच्या संयुक्त विद्यमाने “गांधी विचारांची प्रासंगिकता” या विषयावर व्याख्यानाचे आयोजन करण्यात आले. या कार्यक्रमात प्रमुख वक्ते म्हणून डॉ. आर. डी. शिंदे यांनी उपस्थितांना मार्गदर्शन केले.\nडॉ. शिंदे यांनी आपल्या भाषणात गांधी विचारांचे कालातीत महत्त्व अधोरेखित करताना सांगितले की\, “महात्मा गांधी यांचे विचार केवळ अभ्यासासाठी नसून आचरणासाठी आहेत. आजच्या भौतिकवादी\, व्यसनाधीन आणि हिंसक जीवनशैलीतून मार्ग काढण्यासाठी गांधी विचार ही काळाची गरज आहे.” त्यांनी तरुणांना उद्देशून विचारले की\, “आपण आधुनिक झालो\, पण विचाराने आधुनिक झालोत का?” आणि गांधींच्या विचारसरणीचा आधुनिक जगासाठी उपयोग कसा होऊ शकतो\, यावर प्रकाश टाकला.\nकार्यक्रमाच्या प्रारंभी महाविद्यालयाचे प्राचार्य यांनी प्रास्ताविक करताना गांधी विचारांचे तत्त्वज्ञान “आधी कृती\, मग उपदेश” या भूमिकेवर आधारित असल्याचे सांगितले. त्यांनी या व्याख्यानामागील वैचारिक भूमिका स्पष्ट करताना गांधी विचारांचे आजच्या काळातील महत्त्व अधोरेखित केले.\nया कार्यक्रमात राज्यशास्त्र अभ्यास मंडळाचे उद्घाटन सुद्धा करण्यात आले. नव्याने गठित मंडळात खालील विद्यार्थ्यांची निवड करण्यात आली:\n– अध्यक्ष: हरकारे शुभांगी संजय (एम.ए. – I)\n– उपाध्यक्ष: खरोडे ऋतुजा हरी (एम.ए. – I)\n– सचिव: बोथिंगे तुकाराम बाबाराव (बी.ए. – II)\n– सदस्य: जाधव पूजा (बी.ए. – II)\, झुटपल्लू श्रद्धा गोरोबा (बी.ए. – I)\, शेंडगे पूनम कोंडीबा (बी.ए. – I)\nकार्यक्रमाचे सूत्रसंचालन येगावकर सर यांनी केले. डॉ. प्रेमीला इंगोले व प्रा. गणपती खूपसे यांचे विशेष सहकार्य लाभले. या कार्यक्रमाला महाविद्यालयातील प्राध्यापकवर्ग व विद्यार्थी मोठ्या संख्येने उपस्थित होते.\n🔸 गांधी विचारांचा प्रसार आणि नव्या पिढीला त्यांचे महत्त्व पटवून देण्याच्या दृष्टीने हा कार्यक्रम अत्यंत प्रेरणादायी ठरला.
URL:https://dbcbhokar.edu.in/event/%e0%a4%97%e0%a4%be%e0%a4%82%e0%a4%a7%e0%a5%80-%e0%a4%b5%e0%a4%bf%e0%a4%9a%e0%a4%be%e0%a4%b0%e0%a4%be%e0%a4%82%e0%a4%9a%e0%a5%80-%e0%a4%aa%e0%a5%8d%e0%a4%b0%e0%a4%be%e0%a4%b8%e0%a4%82%e0%a4%97%e0%a4%bf/
LOCATION:Digambarrao Bindu College Bhokar\, Bhokar\, Nanded\, MAHARASHTRA\, 431801\, India
ATTACH;FMTTYPE=image/jpeg:https://dbcbhokar.edu.in/wp-content/uploads/2025/10/gandhi-study-center.jpg
END:VEVENT
END:VCALENDAR