BEGIN:VCALENDAR
VERSION:2.0
PRODID:-//Digambarrao Bindu College, Bhokar - ECPv6.15.11//NONSGML v1.0//EN
CALSCALE:GREGORIAN
METHOD:PUBLISH
X-ORIGINAL-URL:https://dbcbhokar.edu.in
X-WR-CALDESC:Events for Digambarrao Bindu College, Bhokar
REFRESH-INTERVAL;VALUE=DURATION:PT1H
X-Robots-Tag:noindex
X-PUBLISHED-TTL:PT1H
BEGIN:VTIMEZONE
TZID:UTC
BEGIN:STANDARD
TZOFFSETFROM:+0000
TZOFFSETTO:+0000
TZNAME:UTC
DTSTART:20240101T000000
END:STANDARD
END:VTIMEZONE
BEGIN:VEVENT
DTSTART;TZID=UTC:20251015T100000
DTEND;TZID=UTC:20251015T170000
DTSTAMP:20260423T210122
CREATED:20251012T170941Z
LAST-MODIFIED:20251012T171045Z
UID:10134-1760522400-1760547600@dbcbhokar.edu.in
SUMMARY:रोजगार मेळावा २०२५
DESCRIPTION:पंडित दीनदयाल उपाध्याय रोजगार मेळावा\nजिल्हा कौशल्य विकास\, रोजगार व उद्योजकता मार्गदर्शन केंद्र\, नांदेड व\nदिगंबरराव बिंदू महाविद्यालय भोकर यांच्या संयुक्त विद्यमाने आयोजित\nजिल्ह्यातील युवा व युवतींसाठी स्वप्नातली नोकरी मिळवून देण्याच्या उद्देशाने\nपंडित दिनदयाळ उपाध्याय रोजगार मेळावा\, आयोजित करण्यात आलेला आहे.\n• दिनांक : 15 ऑक्टोबर 2025 · वेळ : सकाळी १०.०० वा. पासुन\n• स्थळ : दिगंबरराव बिंदू महाविद्यालय भोकर \nविनामूल्य खाजगी उद्योग व आस्थापनांमध्ये 685 रिक्त पदांवर रोजगाराची संधी\nउमेदवारांनी सर्व शैक्षणिक कागदपत्रांचे\nझेरॉक्स प्रति सोबत ठेवावे.\nकौशल्य\, रोजगार\, उद्योजकता व नाविन्यता विभाग नांदेड.\nसंकेतस्थळाला भेट देण्यासाठी\nOR Code स्कॅन करा.\nअधिकृत संकेतस्थळाला भेट या – www.zojgar.mahaswayam.gov.in संपर्क क्र. 02462 251674. +919420775527\, +91 9922675834
URL:https://dbcbhokar.edu.in/event/%e0%a4%b0%e0%a5%8b%e0%a4%9c%e0%a4%97%e0%a4%be%e0%a4%b0-%e0%a4%ae%e0%a5%87%e0%a4%b3%e0%a4%be%e0%a4%b5%e0%a4%be-%e0%a5%a8%e0%a5%a6%e0%a5%a8%e0%a5%ab/
LOCATION:Digambarrao Bindu College Bhokar\, Bhokar\, Nanded\, MAHARASHTRA\, 431801\, India
END:VEVENT
END:VCALENDAR